{"text_format":"1","workbook":"xlsx","n_sheets":5,"sheets":["事業内容内訳書","作物別受益面積","農家","資材","園地"],"not_rendered":{"charts":0,"images":0,"macros":1,"external_links":0,"defined_names":2,"comments":0,"pivot_tables":0},"unopened":[],"bounds":{"document_bytes":16777216,"sheet_cells":100000,"rows_first":2000,"rows_last":500,"rows_between":2000,"halvings":0,"cell_chars":16384,"cell_head_chars":4096},"cells_cut":0,"cells_raw":0,"read":"whole","date_system":"1900"}

{"sheet":"事業内容内訳書","index":0,"n_rows":12,"n_cols":19,"rows_kept":12,"cut":false,"hidden":false,"merged":[[10,11,10,14],[10,15,10,18],[4,1,5,2],[4,3,5,4],[4,5,5,6],[4,7,5,7],[4,8,5,8],[6,7,7,8],[8,1,9,2],[8,3,9,3],[8,4,9,4],[8,5,9,5],[8,6,9,6],[6,1,7,2],[6,4,7,4],[6,5,7,5],[8,7,9,8],[6,3,7,3],[12,1,12,2],[13,1,13,2],[1,1,1,8],[10,1,10,2],[10,10,11,10],[11,1,11,2],[6,6,7,6],[19,1,19,2],[20,1,20,2],[21,1,21,2],[22,1,22,2],[23,1,23,2],[14,1,14,2],[15,1,15,2],[16,1,16,2],[17,1,17,2],[18,1,18,2],[29,1,29,2],[30,1,30,2],[31,1,31,2],[32,1,32,2],[33,1,33,2],[24,1,24,2],[25,1,25,2],[26,1,26,2],[27,1,27,2],[28,1,28,2],[39,1,39,2],[40,1,40,2],[41,1,41,2],[42,1,42,2],[43,1,43,2],[34,1,34,2],[35,1,35,2],[36,1,36,2],[37,1,37,2],[38,1,38,2],[49,1,49,2],[50,1,50,2],[51,1,51,2],[52,1,52,2],[53,1,53,2],[44,1,44,2],[45,1,45,2],[46,1,46,2],[47,1,47,2],[48,1,48,2],[59,1,59,2],[60,1,60,2],[61,1,61,2],[62,1,62,2],[63,1,63,2],[54,1,54,2],[55,1,55,2],[56,1,56,2],[57,1,57,2],[58,1,58,2],[69,1,69,2],[70,1,70,2],[71,1,71,2],[72,1,72,2],[73,1,73,2],[64,1,64,2],[65,1,65,2],[66,1,66,2],[67,1,67,2],[68,1,68,2],[79,1,79,2],[80,1,80,2],[81,1,81,2],[82,1,82,2],[83,1,83,2],[74,1,74,2],[75,1,75,2],[76,1,76,2],[77,1,77,2],[78,1,78,2],[89,1,89,2],[90,1,90,2],[91,1,91,2],[92,1,92,2],[93,1,93,2],[84,1,84,2],[85,1,85,2],[86,1,86,2],[87,1,87,2],[88,1,88,2],[99,1,99,2],[100,1,100,2],[101,1,101,2],[102,1,102,2],[103,1,103,2],[94,1,94,2],[95,1,95,2],[96,1,96,2],[97,1,97,2],[98,1,98,2],[109,1,109,2],[110,1,110,2],[111,1,111,2],[112,1,112,2],[113,1,113,2],[104,1,104,2],[105,1,105,2],[106,1,106,2],[107,1,107,2],[108,1,108,2],[119,1,119,2],[120,1,120,2],[121,1,121,2],[122,1,122,2],[123,1,123,2],[114,1,114,2],[115,1,115,2],[116,1,116,2],[117,1,117,2],[118,1,118,2],[129,1,129,2],[130,1,130,2],[131,1,131,2],[132,1,132,2],[133,1,133,2],[124,1,124,2],[125,1,125,2],[126,1,126,2],[127,1,127,2],[128,1,128,2],[139,1,139,2],[140,1,140,2],[141,1,141,2],[142,1,142,2],[143,1,143,2],[134,1,134,2],[135,1,135,2],[136,1,136,2],[137,1,137,2],[138,1,138,2],[149,1,149,2],[150,1,150,2],[151,1,151,2],[152,1,152,2],[153,1,153,2],[144,1,144,2],[145,1,145,2],[146,1,146,2],[147,1,147,2],[148,1,148,2],[159,1,159,2],[160,1,160,2],[161,1,161,2],[162,1,162,2],[163,1,163,2],[154,1,154,2],[155,1,155,2],[156,1,156,2],[157,1,157,2],[158,1,158,2],[169,1,169,2],[170,1,170,2],[171,1,171,2],[172,1,172,2],[173,1,173,2],[164,1,164,2],[165,1,165,2],[166,1,166,2],[167,1,167,2],[168,1,168,2],[179,1,179,2],[180,1,180,2],[181,1,181,2],[182,1,182,2],[183,1,183,2],[174,1,174,2],[175,1,175,2],[176,1,176,2],[177,1,177,2],[178,1,178,2],[189,1,189,2],[190,1,190,2],[191,1,191,2],[192,1,192,2],[193,1,193,2],[184,1,184,2],[185,1,185,2],[186,1,186,2],[187,1,187,2],[188,1,188,2],[199,1,199,2],[200,1,200,2],[201,1,201,2],[202,1,202,2],[203,1,203,2],[194,1,194,2],[195,1,195,2],[196,1,196,2],[197,1,197,2],[198,1,198,2],[209,1,209,2],[210,1,210,2],[211,1,211,2],[212,1,212,2],[213,1,213,2],[204,1,204,2],[205,1,205,2],[206,1,206,2],[207,1,207,2],[208,1,208,2],[219,1,219,2],[220,1,220,2],[221,1,221,2],[222,1,222,2],[223,1,223,2],[214,1,214,2],[215,1,215,2],[216,1,216,2],[217,1,217,2],[218,1,218,2],[229,1,229,2],[230,1,230,2],[231,1,231,2],[232,1,232,2],[233,1,233,2],[224,1,224,2],[225,1,225,2],[226,1,226,2],[227,1,227,2],[228,1,228,2]]}
[null,"（参考様式１）"]
[null,"事業内容内訳書",null,null,null,null,null,null,null,null,"※資材別計算"]
[null,1,"事業内容",null,null,null,null,null,null,null,"※資材別計算"]
[null,"※虚偽の申請をした場合は補助金返還となりますのでご注意ください。",null,null,null,null,null,null,null,null,null,"実施主体数","受益面積","事業費","県補助金"]
[null,"事業主体名",null,"○○農業協同組合",null,"事業実施主体数(件)",null,{"$f":"COUNTA(A:A)","v":0},"件",null,"ハウスビニール",{"$f":"COUNTIF(L13:L13,\">0\")","v":0},{"$f":"SUMIF(園地!D:D,\"○\",園地!C:C)","v":0},{"$f":"SUM(L13:L13)","v":0},{"$f":"SUM(P13:P13)","v":0}]
[null,null,null,null,null,null,null,null,null,null,"トンネルビニール",{"$f":"COUNTIF(M13:M13,\">0\")","v":0},{"$f":"SUMIF(園地!E:E,\"○\",園地!C:C)","v":0},{"$f":"SUM(M13:M13)","v":0},{"$f":"SUM(Q13:Q13)","v":0}]
[null,"総事業費",null,{"$f":"SUM(D13:D13)","v":0},"消費税等相当額",{"$f":"SUM(E13:E13)","v":0},"補助対象事業費",{"$f":"SUM(F13:F13)","v":0},null,null,"マルチ資材",{"$f":"COUNTIF(N13:N13,\">0\")","v":0},{"$f":"SUMIF(園地!F:F,\"○\",園地!C:C)","v":0},{"$f":"SUM(N13:N13)","v":0},{"$f":"SUM(R13:R13)","v":0}]
[null,null,null,null,null,null,null,null,null,null,"長期貯蔵用果実個装資材",{"$f":"COUNTIF(O13:O13,\">0\")","v":0},{"$f":"SUMIF(園地!G:G,\"○\",園地!C:C)","v":0},{"$f":"SUM(O13:O13)","v":0},{"$f":"SUM(S13:S13)","v":0}]
[null,"事業補助金",null,{"$f":"SUM(G13:G13)","v":0},"附帯事務費",{"$f":"SUM(H13:H13)","v":0},"県補助金の計",{"$f":"SUM(D9,F9)","v":0},null,null,"合計",{"$f":"+SUM(L5:L8)","v":0},{"$f":"+SUM(M5:M8)","v":0},0,0]
[]
[null,"農家名",null,"事業費(円)","消費税等","補助対象","事業補助金","附帯事務費","備考",null,"面積","事業費（税込み）",null,null,null,"県補助金"]
[null,null,null,"※税込み","相当額（円）","事業費（円）","（円）","（円）",null,null,null,"ハウスビニール","トンネルビニール","マルチ資材","長期貯蔵用果実個装資材","ハウスビニール","トンネルビニール","マルチ資材","長期貯蔵用果実個装資材"]

{"sheet":"作物別受益面積","index":1,"n_rows":7,"n_cols":3,"rows_kept":7,"cut":false,"hidden":false,"merged":[]}
["（２）品目及び受益面積"]
[null,"品目名","受益面積（a）"]
[null,null,{"$f":"SUMIF(園地!$B:$B,B3,園地!C:C)","v":0}]
[null,null,{"$f":"SUMIF(園地!$B:$B,B4,園地!C:C)","v":0}]
[null,null,{"$f":"SUMIF(園地!$B:$B,B5,園地!C:C)","v":0}]
[null,null,{"$f":"SUMIF(園地!$B:$B,B6,園地!C:C)","v":0}]
[null,null,{"$f":"SUMIF(園地!$B:$B,B7,園地!C:C)","v":0}]

{"sheet":"農家","index":2,"n_rows":1,"n_cols":7,"rows_kept":1,"cut":false,"hidden":false,"merged":[]}
["ID","事業実施主体名","電話番号","作付面積合計","事業費","県補助金額の計","取込ファイル名"]

{"sheet":"資材","index":3,"n_rows":1,"n_cols":13,"rows_kept":1,"cut":false,"hidden":false,"merged":[]}
["園地番号","栽培品目","作付面積\n（a）","資材種別","購入資材\n（商品名・規格）","購入数量","単価(円)\n※税込み","事業費(円)\n※税込み","消費税等\n相当額（円）","補助対象\n事業費（円）","県補助金額\n（円）","ID","事業実施主体名"]

{"sheet":"園地","index":4,"n_rows":1,"n_cols":9,"rows_kept":1,"cut":false,"hidden":false,"merged":[]}
["園地番号","栽培品目","作付面積","ハウスビニール","トンネルビニール","マルチ資材","長期貯蔵用果実個装資材","ID","事業実施主体名"]